BEGIN:VCALENDAR
VERSION:2.0
PRODID:-//Squarespace Inc/Squarespace 6//v6//EN
BEGIN:VEVENT
UID:606c15c106688178031bb749@squarespace.com
DTSTAMP:20210406T091620Z
DTSTART:20210506T050000Z
DTEND:20210506T190000Z
SUMMARY:Journée portes ouvertes
GEO:49.687907;5.822043
LOCATION:Go-Score\, 80 Avenue du 10ème de Ligne\, Arlon\, Wallonie\, 6700\, 
 Belgique
END:VEVENT
END:VCALENDAR
